BEGIN:VCALENDAR
VERSION:2.0
PRODID:-//Mountain Valley Homeowners Association - ECPv6.15.20//NONSGML v1.0//EN
CALSCALE:GREGORIAN
METHOD:PUBLISH
X-WR-CALNAME:Mountain Valley Homeowners Association
X-ORIGINAL-URL:https://mvha.net
X-WR-CALDESC:Events for Mountain Valley Homeowners Association
REFRESH-INTERVAL;VALUE=DURATION:PT1H
X-Robots-Tag:noindex
X-PUBLISHED-TTL:PT1H
BEGIN:VTIMEZONE
TZID:UTC
BEGIN:STANDARD
TZOFFSETFROM:+0000
TZOFFSETTO:+0000
TZNAME:UTC
DTSTART:20250101T000000
END:STANDARD
END:VTIMEZONE
BEGIN:VEVENT
DTSTART;VALUE=DATE:20260314
DTEND;VALUE=DATE:20260315
DTSTAMP:20260423T175042
CREATED:20260306T041131Z
LAST-MODIFIED:20260306T041131Z
UID:1578-1773446400-1773532799@mvha.net
SUMMARY:Private Party (Hall\, clubhouse) - 3/14/2026\, 11am-3pm
DESCRIPTION:
URL:https://mvha.net/event/private-party-hall-clubhouse-3-14-2026-11am-3pm/
END:VEVENT
BEGIN:VEVENT
DTSTART;VALUE=DATE:20260321
DTEND;VALUE=DATE:20260322
DTSTAMP:20260423T175042
CREATED:20260212T033019Z
LAST-MODIFIED:20260212T033019Z
UID:1566-1774051200-1774137599@mvha.net
SUMMARY:Private Party (Delaplane\, park) - 3/21/2026\, Noon-5pm
DESCRIPTION:
URL:https://mvha.net/event/private-party-delaplane-park-3-21-2026-noon-5pm/
END:VEVENT
BEGIN:VEVENT
DTSTART;VALUE=DATE:20260328
DTEND;VALUE=DATE:20260329
DTSTAMP:20260423T175042
CREATED:20260212T033302Z
LAST-MODIFIED:20260212T033302Z
UID:1570-1774656000-1774742399@mvha.net
SUMMARY:Private Party (Montante\, clubhouse) - 3/28/2026\, 8am-1pm
DESCRIPTION:
URL:https://mvha.net/event/private-party-montante-clubhouse-3-28-2026-8am-1pm/
END:VEVENT
END:VCALENDAR