BEGIN:VCALENDAR
VERSION:2.0
PRODID:-//Mountain Valley Homeowners Association - ECPv6.15.20//NONSGML v1.0//EN
CALSCALE:GREGORIAN
METHOD:PUBLISH
X-WR-CALNAME:Mountain Valley Homeowners Association
X-ORIGINAL-URL:https://mvha.net
X-WR-CALDESC:Events for Mountain Valley Homeowners Association
REFRESH-INTERVAL;VALUE=DURATION:PT1H
X-Robots-Tag:noindex
X-PUBLISHED-TTL:PT1H
BEGIN:VTIMEZONE
TZID:UTC
BEGIN:STANDARD
TZOFFSETFROM:+0000
TZOFFSETTO:+0000
TZNAME:UTC
DTSTART:20250101T000000
END:STANDARD
END:VTIMEZONE
BEGIN:VEVENT
DTSTART;VALUE=DATE:20260117
DTEND;VALUE=DATE:20260118
DTSTAMP:20260423T205946
CREATED:20260109T193816Z
LAST-MODIFIED:20260113T000546Z
UID:1557-1768608000-1768694399@mvha.net
SUMMARY:Private Party (Ibarra\, clubhouse) - 1/17/2026\, 4-11pm
DESCRIPTION:
URL:https://mvha.net/event/private-party-ibarra-clubhouse-2-17-2026-4-11pm/
END:VEVENT
END:VCALENDAR