BEGIN:VCALENDAR
VERSION:2.0
PRODID:-//Mountain Valley Homeowners Association - ECPv6.15.20//NONSGML v1.0//EN
CALSCALE:GREGORIAN
METHOD:PUBLISH
X-ORIGINAL-URL:https://mvha.net
X-WR-CALDESC:Events for Mountain Valley Homeowners Association
REFRESH-INTERVAL;VALUE=DURATION:PT1H
X-Robots-Tag:noindex
X-PUBLISHED-TTL:PT1H
BEGIN:VTIMEZONE
TZID:UTC
BEGIN:STANDARD
TZOFFSETFROM:+0000
TZOFFSETTO:+0000
TZNAME:UTC
DTSTART:20240101T000000
END:STANDARD
END:VTIMEZONE
BEGIN:VEVENT
DTSTART;VALUE=DATE:20250801
DTEND;VALUE=DATE:20250802
DTSTAMP:20260424T043845
CREATED:20250719T174210Z
LAST-MODIFIED:20250730T234644Z
UID:1483-1754006400-1754092799@mvha.net
SUMMARY:Private Party (White\, clubhouse) - 8/1/2025\, 5-9pm
DESCRIPTION:
URL:https://mvha.net/event/private-party-clubhouse-8-1-2025-5-9pm/
END:VEVENT
BEGIN:VEVENT
DTSTART;VALUE=DATE:20250808
DTEND;VALUE=DATE:20250809
DTSTAMP:20260424T043845
CREATED:20250710T201120Z
LAST-MODIFIED:20250730T234630Z
UID:1480-1754611200-1754697599@mvha.net
SUMMARY:Private Party (Whitaker\, park) - 8/8/2025\, 5-9pm
DESCRIPTION:
URL:https://mvha.net/event/private-party-park-8-8-2025-5-9pm/
END:VEVENT
BEGIN:VEVENT
DTSTART;VALUE=DATE:20250809
DTEND;VALUE=DATE:20250810
DTSTAMP:20260424T043845
CREATED:20250624T033534Z
LAST-MODIFIED:20250730T234614Z
UID:1459-1754697600-1754783999@mvha.net
SUMMARY:Private Party (Gasparian\, clubhouse & park) - 8/9/2025\, 9am-3pm
DESCRIPTION:
URL:https://mvha.net/event/private-party-clubhouse-park-8-9-2025-9am-3pm/
END:VEVENT
BEGIN:VEVENT
DTSTART;VALUE=DATE:20250809
DTEND;VALUE=DATE:20250810
DTSTAMP:20260424T043845
CREATED:20250624T033824Z
LAST-MODIFIED:20250730T234958Z
UID:1467-1754697600-1754783999@mvha.net
SUMMARY:Music\, Picnic & Annual Family Campout - 8/9/2025\, 6pm
DESCRIPTION:
URL:https://mvha.net/event/music-picnic-annual-family-campout-8-9-2025-6pm/
ATTACH;FMTTYPE=image/jpeg:https://mvha.net/wp-content/uploads/2025/06/New-Summer-Camp-Out-2025.jpg
END:VEVENT
BEGIN:VEVENT
DTSTART;VALUE=DATE:20250810
DTEND;VALUE=DATE:20250811
DTSTAMP:20260424T043845
CREATED:20250805T200728Z
LAST-MODIFIED:20250805T200728Z
UID:1497-1754784000-1754870399@mvha.net
SUMMARY:Private Party (Hamburger\, park) - 8/10/2025
DESCRIPTION:
URL:https://mvha.net/event/private-party-hamburger-park-8-10-2025/
END:VEVENT
BEGIN:VEVENT
DTSTART;VALUE=DATE:20250816
DTEND;VALUE=DATE:20250817
DTSTAMP:20260424T043845
CREATED:20250627T034121Z
LAST-MODIFIED:20250730T234548Z
UID:1472-1755302400-1755388799@mvha.net
SUMMARY:Private Party (Shaban\, park) - 8/16/2025\, Noon-6pm
DESCRIPTION:
URL:https://mvha.net/event/private-party-park-8-16-2025-noon-6pm/
END:VEVENT
BEGIN:VEVENT
DTSTART;VALUE=DATE:20250823
DTEND;VALUE=DATE:20250824
DTSTAMP:20260424T043845
CREATED:20250730T234251Z
LAST-MODIFIED:20250730T234358Z
UID:1486-1755907200-1755993599@mvha.net
SUMMARY:Private Party (Shaffer\, park) - 8/23/2025\, 9-12pm
DESCRIPTION:
URL:https://mvha.net/event/private-party-park-8-23-2025-9-12pm/
END:VEVENT
END:VCALENDAR