BEGIN:VCALENDAR
VERSION:2.0
PRODID:-//Mountain Valley Homeowners Association - ECPv6.15.20//NONSGML v1.0//EN
CALSCALE:GREGORIAN
METHOD:PUBLISH
X-ORIGINAL-URL:https://mvha.net
X-WR-CALDESC:Events for Mountain Valley Homeowners Association
REFRESH-INTERVAL;VALUE=DURATION:PT1H
X-Robots-Tag:noindex
X-PUBLISHED-TTL:PT1H
BEGIN:VTIMEZONE
TZID:UTC
BEGIN:STANDARD
TZOFFSETFROM:+0000
TZOFFSETTO:+0000
TZNAME:UTC
DTSTART:20240101T000000
END:STANDARD
END:VTIMEZONE
BEGIN:VEVENT
DTSTART;VALUE=DATE:20250704
DTEND;VALUE=DATE:20250705
DTSTAMP:20260424T063715
CREATED:20250624T033631Z
LAST-MODIFIED:20250624T033631Z
UID:1461-1751587200-1751673599@mvha.net
SUMMARY:July 4th Bike Parade - 7/4/2025\, 10am
DESCRIPTION:
URL:https://mvha.net/event/july-4th-bike-parade-7-4-2025-10am/
ATTACH;FMTTYPE=image/jpeg:https://mvha.net/wp-content/uploads/2025/06/2025-4th-of-July-Parade.jpg
END:VEVENT
BEGIN:VEVENT
DTSTART;VALUE=DATE:20250705
DTEND;VALUE=DATE:20250706
DTSTAMP:20260424T063715
CREATED:20250513T020743Z
LAST-MODIFIED:20250513T020743Z
UID:1446-1751673600-1751759999@mvha.net
SUMMARY:Private Party (park) - 7/5/2025\, 1-7pm
DESCRIPTION:
URL:https://mvha.net/event/private-party-park-7-5-2025-1-7pm/
END:VEVENT
BEGIN:VEVENT
DTSTART;VALUE=DATE:20250712
DTEND;VALUE=DATE:20250713
DTSTAMP:20260424T063715
CREATED:20250704T214143Z
LAST-MODIFIED:20250704T214143Z
UID:1476-1752278400-1752364799@mvha.net
SUMMARY:Community Picnic - 7/12/2025\, 6pm
DESCRIPTION:
URL:https://mvha.net/event/community-picnic-7-12-2025-6pm/
END:VEVENT
BEGIN:VEVENT
DTSTART;VALUE=DATE:20250712
DTEND;VALUE=DATE:20250713
DTSTAMP:20260424T063715
CREATED:20250704T214219Z
LAST-MODIFIED:20250730T234713Z
UID:1478-1752278400-1752364799@mvha.net
SUMMARY:Private Party (Kumar\, clubhouse) - 7/12/2025\, 8pm-2am
DESCRIPTION:
URL:https://mvha.net/event/private-party-clubhouse-7-12-2025-8pm-2am/
END:VEVENT
BEGIN:VEVENT
DTSTART;VALUE=DATE:20250726
DTEND;VALUE=DATE:20250727
DTSTAMP:20260424T063715
CREATED:20250626T053932Z
LAST-MODIFIED:20250730T234701Z
UID:1470-1753488000-1753574399@mvha.net
SUMMARY:Private Party (Munoz\, clubhouse) - 7/26/2025\, 2-6pm
DESCRIPTION:
URL:https://mvha.net/event/private-party-clubhouse-7-26-2025-2-6pm/
END:VEVENT
END:VCALENDAR