BEGIN:VCALENDAR
VERSION:2.0
PRODID:-//Mountain Valley Homeowners Association - ECPv6.15.20//NONSGML v1.0//EN
CALSCALE:GREGORIAN
METHOD:PUBLISH
X-WR-CALNAME:Mountain Valley Homeowners Association
X-ORIGINAL-URL:https://mvha.net
X-WR-CALDESC:Events for Mountain Valley Homeowners Association
REFRESH-INTERVAL;VALUE=DURATION:PT1H
X-Robots-Tag:noindex
X-PUBLISHED-TTL:PT1H
BEGIN:VTIMEZONE
TZID:UTC
BEGIN:STANDARD
TZOFFSETFROM:+0000
TZOFFSETTO:+0000
TZNAME:UTC
DTSTART:20240101T000000
END:STANDARD
END:VTIMEZONE
BEGIN:VEVENT
DTSTART;VALUE=DATE:20250607
DTEND;VALUE=DATE:20250608
DTSTAMP:20260424T081923
CREATED:20250402T014812Z
LAST-MODIFIED:20250402T014812Z
UID:1424-1749254400-1749340799@mvha.net
SUMMARY:Private Party (clubhouse) - 6/7/2025\, Noon-10pm
DESCRIPTION:
URL:https://mvha.net/event/private-party-clubhouse-6-7-2025-noon-10pm/
END:VEVENT
BEGIN:VEVENT
DTSTART;VALUE=DATE:20250607
DTEND;VALUE=DATE:20250608
DTSTAMP:20260424T081923
CREATED:20250514T004946Z
LAST-MODIFIED:20250514T004946Z
UID:1448-1749254400-1749340799@mvha.net
SUMMARY:Private Party (park) - 6/7/2025\, 11:30am-3pm
DESCRIPTION:
URL:https://mvha.net/event/private-party-park-6-7-2025-1130am-3pm/
END:VEVENT
BEGIN:VEVENT
DTSTART;VALUE=DATE:20250608
DTEND;VALUE=DATE:20250609
DTSTAMP:20260424T081923
CREATED:20250307T063926Z
LAST-MODIFIED:20250307T063926Z
UID:1411-1749340800-1749427199@mvha.net
SUMMARY:Private Party (park) - 6/8/2025\, 3-8pm
DESCRIPTION:
URL:https://mvha.net/event/private-party-park-6-8-2025-3-8pm/
END:VEVENT
BEGIN:VEVENT
DTSTART;VALUE=DATE:20250628
DTEND;VALUE=DATE:20250629
DTSTAMP:20260424T081923
CREATED:20250615T052041Z
LAST-MODIFIED:20250805T201040Z
UID:1454-1751068800-1751155199@mvha.net
SUMMARY:Private Party (Orelli\, park) - 6/28/2025\, 10am-3pm
DESCRIPTION:
URL:https://mvha.net/event/private-party-park-6-28-2025-10am-3pm/
END:VEVENT
BEGIN:VEVENT
DTSTART;VALUE=DATE:20250628
DTEND;VALUE=DATE:20250629
DTSTAMP:20260424T081923
CREATED:20250624T033732Z
LAST-MODIFIED:20250624T033732Z
UID:1464-1751068800-1751155199@mvha.net
SUMMARY:Community Movie Night - 6/28/2025\, 8pm
DESCRIPTION:
URL:https://mvha.net/event/community-movie-night-6-28-2025-8pm/
ATTACH;FMTTYPE=image/jpeg:https://mvha.net/wp-content/uploads/2025/06/2025-Goonies-Movie-Night.jpg
END:VEVENT
END:VCALENDAR