BEGIN:VCALENDAR
VERSION:2.0
PRODID:-//Mountain Valley Homeowners Association - ECPv6.15.20//NONSGML v1.0//EN
CALSCALE:GREGORIAN
METHOD:PUBLISH
X-ORIGINAL-URL:https://mvha.net
X-WR-CALDESC:Events for Mountain Valley Homeowners Association
REFRESH-INTERVAL;VALUE=DURATION:PT1H
X-Robots-Tag:noindex
X-PUBLISHED-TTL:PT1H
BEGIN:VTIMEZONE
TZID:UTC
BEGIN:STANDARD
TZOFFSETFROM:+0000
TZOFFSETTO:+0000
TZNAME:UTC
DTSTART:20240101T000000
END:STANDARD
END:VTIMEZONE
BEGIN:VEVENT
DTSTART;VALUE=DATE:20250526
DTEND;VALUE=DATE:20250527
DTSTAMP:20260423T210011
CREATED:20250506T224513Z
LAST-MODIFIED:20250506T224513Z
UID:1442-1748217600-1748303999@mvha.net
SUMMARY:Private Party (park) - 5/26/2025\, 10am-3pm
DESCRIPTION:
URL:https://mvha.net/event/private-party-park-5-26-2025-10am-3pm/
END:VEVENT
BEGIN:VEVENT
DTSTART;VALUE=DATE:20250524
DTEND;VALUE=DATE:20250525
DTSTAMP:20260423T210011
CREATED:20250508T052523Z
LAST-MODIFIED:20250508T052523Z
UID:1444-1748044800-1748131199@mvha.net
SUMMARY:Private Party (park) - 5/24/2025\, 10am-6pm
DESCRIPTION:
URL:https://mvha.net/event/private-party-park-5-24-2025-10am-6pm/
END:VEVENT
BEGIN:VEVENT
DTSTART;VALUE=DATE:20250522
DTEND;VALUE=DATE:20250523
DTSTAMP:20260423T210011
CREATED:20250520T235106Z
LAST-MODIFIED:20250520T235106Z
UID:1451-1747872000-1747958399@mvha.net
SUMMARY:Private Party (park) - 5/22/2025\, 5-8pm
DESCRIPTION:
URL:https://mvha.net/event/private-party-park-5-22-2025-5-8pm/
END:VEVENT
BEGIN:VEVENT
DTSTART;VALUE=DATE:20250517
DTEND;VALUE=DATE:20250518
DTSTAMP:20260423T210011
CREATED:20250506T224219Z
LAST-MODIFIED:20250506T224219Z
UID:1440-1747440000-1747526399@mvha.net
SUMMARY:Private Party (park) - 5/17/2025\, 1-5pm
DESCRIPTION:
URL:https://mvha.net/event/private-party-park-5-17-2025-1-5pm/
END:VEVENT
BEGIN:VEVENT
DTSTART;VALUE=DATE:20250510
DTEND;VALUE=DATE:20250511
DTSTAMP:20260423T210011
CREATED:20250424T034657Z
LAST-MODIFIED:20250501T004222Z
UID:1435-1746835200-1746921599@mvha.net
SUMMARY:Private Party (park) - 5/10/2025\, 1-6pm
DESCRIPTION:
URL:https://mvha.net/event/private-party-park-5-3-2025-1-6pm/
END:VEVENT
BEGIN:VEVENT
DTSTART;VALUE=DATE:20250503
DTEND;VALUE=DATE:20250504
DTSTAMP:20260423T210011
CREATED:20250331T205816Z
LAST-MODIFIED:20250331T205816Z
UID:1421-1746230400-1746316799@mvha.net
SUMMARY:Private Party (park) - 5/3/2025\, Noon-7pm
DESCRIPTION:
URL:https://mvha.net/event/private-party-park-5-3-2025-noon-7pm/
END:VEVENT
END:VCALENDAR