BEGIN:VCALENDAR
VERSION:2.0
PRODID:-//Mountain Valley Homeowners Association - ECPv6.15.20//NONSGML v1.0//EN
CALSCALE:GREGORIAN
METHOD:PUBLISH
X-WR-CALNAME:Mountain Valley Homeowners Association
X-ORIGINAL-URL:https://mvha.net
X-WR-CALDESC:Events for Mountain Valley Homeowners Association
REFRESH-INTERVAL;VALUE=DURATION:PT1H
X-Robots-Tag:noindex
X-PUBLISHED-TTL:PT1H
BEGIN:VTIMEZONE
TZID:UTC
BEGIN:STANDARD
TZOFFSETFROM:+0000
TZOFFSETTO:+0000
TZNAME:UTC
DTSTART:20250101T000000
END:STANDARD
END:VTIMEZONE
BEGIN:VEVENT
DTSTART;VALUE=DATE:20260425
DTEND;VALUE=DATE:20260426
DTSTAMP:20260423T234729
CREATED:20260216T173645Z
LAST-MODIFIED:20260216T173645Z
UID:1572-1777075200-1777161599@mvha.net
SUMMARY:Private Party (Brinton\, clubhouse) - 4/25/2026\, 10am-6pm
DESCRIPTION:
URL:https://mvha.net/event/private-party-brinton-clubhouse-4-25-2026-10am-6pm/
END:VEVENT
BEGIN:VEVENT
DTSTART;VALUE=DATE:20260516
DTEND;VALUE=DATE:20260517
DTSTAMP:20260423T234729
CREATED:20260212T033122Z
LAST-MODIFIED:20260212T033122Z
UID:1568-1778889600-1778975999@mvha.net
SUMMARY:Private Party (Miler\, clubhouse) - 5/16/2026\, 3-11pm
DESCRIPTION:
URL:https://mvha.net/event/private-party-miler-clubhouse-5-16-2026-3-11pm/
END:VEVENT
END:VCALENDAR