BEGIN:VCALENDAR
VERSION:2.0
PRODID:-//Mountain Valley Homeowners Association - ECPv6.15.20//NONSGML v1.0//EN
CALSCALE:GREGORIAN
METHOD:PUBLISH
X-ORIGINAL-URL:https://mvha.net
X-WR-CALDESC:Events for Mountain Valley Homeowners Association
REFRESH-INTERVAL;VALUE=DURATION:PT1H
X-Robots-Tag:noindex
X-PUBLISHED-TTL:PT1H
BEGIN:VTIMEZONE
TZID:UTC
BEGIN:STANDARD
TZOFFSETFROM:+0000
TZOFFSETTO:+0000
TZNAME:UTC
DTSTART:20250101T000000
END:STANDARD
END:VTIMEZONE
BEGIN:VEVENT
DTSTART;VALUE=DATE:20260228
DTEND;VALUE=DATE:20260301
DTSTAMP:20260423T193340
CREATED:20260204T005844Z
LAST-MODIFIED:20260204T005844Z
UID:1563-1772236800-1772323199@mvha.net
SUMMARY:Private Party (Lee\, park) - 2/28/2026\, 1-5pm
DESCRIPTION:
URL:https://mvha.net/event/private-party-lee-park-2-28-2026-1-5pm/
END:VEVENT
BEGIN:VEVENT
DTSTART;VALUE=DATE:20260228
DTEND;VALUE=DATE:20260301
DTSTAMP:20260423T193340
CREATED:20260225T010203Z
LAST-MODIFIED:20260225T010203Z
UID:1575-1772236800-1772323199@mvha.net
SUMMARY:Private Party (Gersdorff\, park) - 2/28/2026\, 2:30-6pm
DESCRIPTION:
URL:https://mvha.net/event/private-party-gersdorff-park-2-28-2026-230-6pm/
END:VEVENT
END:VCALENDAR