BEGIN:VCALENDAR
VERSION:2.0
PRODID:-//Mountain Valley Homeowners Association - ECPv6.15.20//NONSGML v1.0//EN
CALSCALE:GREGORIAN
METHOD:PUBLISH
X-WR-CALNAME:Mountain Valley Homeowners Association
X-ORIGINAL-URL:https://mvha.net
X-WR-CALDESC:Events for Mountain Valley Homeowners Association
REFRESH-INTERVAL;VALUE=DURATION:PT1H
X-Robots-Tag:noindex
X-PUBLISHED-TTL:PT1H
BEGIN:VTIMEZONE
TZID:UTC
BEGIN:STANDARD
TZOFFSETFROM:+0000
TZOFFSETTO:+0000
TZNAME:UTC
DTSTART:20240101T000000
END:STANDARD
END:VTIMEZONE
BEGIN:VEVENT
DTSTART;VALUE=DATE:20251206
DTEND;VALUE=DATE:20251207
DTSTAMP:20260424T000130
CREATED:20251011T012311Z
LAST-MODIFIED:20251122T000658Z
UID:1529-1764979200-1765065599@mvha.net
SUMMARY:Private Party (Bella\, clubhouse) - 12/6/2025\, 10am-6pm
DESCRIPTION:
URL:https://mvha.net/event/private-party-rafiq-clubhouse-12-6-2025-4pm-midnight/
END:VEVENT
END:VCALENDAR