BEGIN:VCALENDAR
VERSION:2.0
PRODID:-//Mountain Valley Homeowners Association - ECPv6.15.20//NONSGML v1.0//EN
CALSCALE:GREGORIAN
METHOD:PUBLISH
X-WR-CALNAME:Mountain Valley Homeowners Association
X-ORIGINAL-URL:https://mvha.net
X-WR-CALDESC:Events for Mountain Valley Homeowners Association
REFRESH-INTERVAL;VALUE=DURATION:PT1H
X-Robots-Tag:noindex
X-PUBLISHED-TTL:PT1H
BEGIN:VTIMEZONE
TZID:UTC
BEGIN:STANDARD
TZOFFSETFROM:+0000
TZOFFSETTO:+0000
TZNAME:UTC
DTSTART:20240101T000000
END:STANDARD
END:VTIMEZONE
BEGIN:VEVENT
DTSTART;VALUE=DATE:20251125
DTEND;VALUE=DATE:20251126
DTSTAMP:20260424T013137
CREATED:20251122T000136Z
LAST-MODIFIED:20251122T000136Z
UID:1551-1764028800-1764115199@mvha.net
SUMMARY:Private Party (Balam\, clubhouse) - 11/25/2025\, 7-8pm
DESCRIPTION:
URL:https://mvha.net/event/private-party-balam-clubhouse-11-25-2025-7-8pm/
END:VEVENT
END:VCALENDAR