BEGIN:VCALENDAR
VERSION:2.0
PRODID:-//Mountain Valley Homeowners Association - ECPv6.15.20//NONSGML v1.0//EN
CALSCALE:GREGORIAN
METHOD:PUBLISH
X-WR-CALNAME:Mountain Valley Homeowners Association
X-ORIGINAL-URL:https://mvha.net
X-WR-CALDESC:Events for Mountain Valley Homeowners Association
REFRESH-INTERVAL;VALUE=DURATION:PT1H
X-Robots-Tag:noindex
X-PUBLISHED-TTL:PT1H
BEGIN:VTIMEZONE
TZID:UTC
BEGIN:STANDARD
TZOFFSETFROM:+0000
TZOFFSETTO:+0000
TZNAME:UTC
DTSTART:20240101T000000
END:STANDARD
END:VTIMEZONE
BEGIN:VEVENT
DTSTART;VALUE=DATE:20251107
DTEND;VALUE=DATE:20251108
DTSTAMP:20260424T013138
CREATED:20251018T052716Z
LAST-MODIFIED:20251018T052716Z
UID:1534-1762473600-1762559999@mvha.net
SUMMARY:Private Party (Jeffords\, clubhouse) - 11/7/2025\, 3-11pm
DESCRIPTION:
URL:https://mvha.net/event/private-party-jeffords-clubhouse-11-7-2025-3-11pm/
END:VEVENT
END:VCALENDAR