BEGIN:VCALENDAR
VERSION:2.0
PRODID:-//Mountain Valley Homeowners Association - ECPv6.15.20//NONSGML v1.0//EN
CALSCALE:GREGORIAN
METHOD:PUBLISH
X-ORIGINAL-URL:https://mvha.net
X-WR-CALDESC:Events for Mountain Valley Homeowners Association
REFRESH-INTERVAL;VALUE=DURATION:PT1H
X-Robots-Tag:noindex
X-PUBLISHED-TTL:PT1H
BEGIN:VTIMEZONE
TZID:UTC
BEGIN:STANDARD
TZOFFSETFROM:+0000
TZOFFSETTO:+0000
TZNAME:UTC
DTSTART:20240101T000000
END:STANDARD
END:VTIMEZONE
BEGIN:VEVENT
DTSTART;VALUE=DATE:20250921
DTEND;VALUE=DATE:20250922
DTSTAMP:20260424T043957
CREATED:20250819T032323Z
LAST-MODIFIED:20250912T235815Z
UID:1507-1758412800-1758499199@mvha.net
SUMMARY:Private Party (Rafiq\, clubhouse) - 9/21/2025\, 3-10pm
DESCRIPTION:
URL:https://mvha.net/event/private-party-rafiq-clubhouse-9-6-2025/
END:VEVENT
END:VCALENDAR